BEGIN:VCALENDAR
VERSION:2.0
PRODID:-//North Shore Chamber of Commerce - ECPv6.15.18//NONSGML v1.0//EN
CALSCALE:GREGORIAN
METHOD:PUBLISH
X-WR-CALNAME:North Shore Chamber of Commerce
X-ORIGINAL-URL:https://www.northshorechamber.org
X-WR-CALDESC:Events for North Shore Chamber of Commerce
REFRESH-INTERVAL;VALUE=DURATION:PT1H
X-Robots-Tag:noindex
X-PUBLISHED-TTL:PT1H
BEGIN:VTIMEZONE
TZID:America/New_York
BEGIN:DAYLIGHT
TZOFFSETFROM:-0500
TZOFFSETTO:-0400
TZNAME:EDT
DTSTART:20250309T070000
END:DAYLIGHT
BEGIN:STANDARD
TZOFFSETFROM:-0400
TZOFFSETTO:-0500
TZNAME:EST
DTSTART:20251102T060000
END:STANDARD
BEGIN:DAYLIGHT
TZOFFSETFROM:-0500
TZOFFSETTO:-0400
TZNAME:EDT
DTSTART:20260308T070000
END:DAYLIGHT
BEGIN:STANDARD
TZOFFSETFROM:-0400
TZOFFSETTO:-0500
TZNAME:EST
DTSTART:20261101T060000
END:STANDARD
BEGIN:DAYLIGHT
TZOFFSETFROM:-0500
TZOFFSETTO:-0400
TZNAME:EDT
DTSTART:20270314T070000
END:DAYLIGHT
BEGIN:STANDARD
TZOFFSETFROM:-0400
TZOFFSETTO:-0500
TZNAME:EST
DTSTART:20271107T060000
END:STANDARD
END:VTIMEZONE
BEGIN:VEVENT
DTSTART;TZID=America/New_York:20260505T080000
DTEND;TZID=America/New_York:20260505T090000
DTSTAMP:20260419T123148
CREATED:20251205T191749Z
LAST-MODIFIED:20260418T224506Z
UID:10001782-1777968000-1777971600@www.northshorechamber.org
SUMMARY:Small Business Council Meeting - May
DESCRIPTION:Join the Small Business Council as Chamber President and CEO Karen Andreas presents\, "Smart Time Management for Busy Business Owners." \nRunning a small business means wearing every hat and too often\, feeling like there’s never enough time. In this interactive one-hour workshop\, you’ll learn practical strategies to take control of your time without adding more stress or complexity. \nBring your calendar (digital or paper) and be ready to roll up your sleeves. This is a hands-on session where you’ll actively plan\, reflect\, and walk away with a clearer\, more intentional approach to managing your time. \nWe’ll cover proven techniques for planning your week\, prioritizing what matters\, and managing the daily interruptions that come with running a business. You’ll leave with tools you can use immediately\, clarity around priorities\, and a plan that fits your real life. \nThe Small Business Council meets monthly to help grow and strengthen your business. Tap into shared knowledge\, advocacy\, and support for your business and your employees.  \nClick HERE for more information about the Small Business Council.  \nMeetings are held the first Tuesday of each month. \nAttendance is FREE for Chamber members; $25 all others. Registration required. \n  \nTuesday\, May 5\, 8 to 9 a.m.\nNorth Shore Chamber Education Center\n500 Cummings Center\, Suite 1700\nBeverly
URL:https://www.northshorechamber.org/event/small-business-council-meeting-may/
END:VEVENT
BEGIN:VEVENT
DTSTART;TZID=America/New_York:20260506T073000
DTEND;TZID=America/New_York:20260506T090000
DTSTAMP:20260419T123148
CREATED:20260105T234517Z
LAST-MODIFIED:20260418T224506Z
UID:10001799-1778052600-1778058000@www.northshorechamber.org
SUMMARY:May Breakfast Forum
DESCRIPTION:Topic and speaker soon to be announced.  \n  \nPRICING\n(Note: Tickets are nonrefundable) \nMembers: $65\nNonmembers: $85 \nSPONSORSHIP OPPORTUNITIES\nPresenting Sponsor\, $999: Verbal welcome and recognition at event; your 1-minute video to be played during event; eight tickets with prominent table location and signage; company logo on promotional materials; marketing display table; your banner at event; your marketing materials at each table. \nTitle Sponsor\, $699: Company logo on promotional materials; four tickets with prominent table location and signage; verbal and logo recognition during breakfast\nSupporting Sponsor\, $299: One ticket and logo recognition at event \nQuestions: Please contact info@northshorechamber.org. \nWednesday\, Feb. 4\n7:30 to 9 a.m.\nSpinelli's\, Route 1 South\, Lynnfield \n 
URL:https://www.northshorechamber.org/event/may-breakfast-forum-3/
END:VEVENT
BEGIN:VEVENT
DTSTART;TZID=America/New_York:20260514T180000
DTEND;TZID=America/New_York:20260514T203000
DTSTAMP:20260419T123148
CREATED:20250914T224523Z
LAST-MODIFIED:20260418T224506Z
UID:10001717-1778781600-1778790600@www.northshorechamber.org
SUMMARY:2026 Honors Scholars Dinner & Program
DESCRIPTION:Join the Chamber in celebrating the the top 3 percent of graduating high school seniors from more than 30 public and private high schools across the North Shore. Click HERE for a recap of our past Honor Scholar events\, including video and photos. \nTickets\n$75 (limit FOUR per student) \nHonor Scholars attend for free and are registered by RSVP on questionnaire from Chamber staff \nSponsorships \nPlatinum — $2\,999 — Sponsor group of high school's attendance; assist in presenting certificates; two tickets to event; sponsor recognition on tables of sponsored schools; 50-words with headshot in program book congratulating students; full page ad in program book; logo with link on website; logo on all correspondence related to event \nGold — $999 — Sponsor 10 students' attendance; quarter page ad in program book; logo with link on website; logo on sponsor page in program book; logo on all correspondence related to event \nSilver — $699 — Sponsor 6 students' attendance; logo with link on website; logo on sponsor page in program book \nBronze — $299 — Sponsor 2 students' attendance; logo on sponsor page in program book \n  \n2026 Honors Scholars Recognition Dinner & Program\nThursday\, May 14\, 6 to 8:30 p.m.\nDoubleTree by Hilton\, 50 Ferncroft Road\, Danvers \n\nQuestions: Please contact info@northshorechamber.org.
URL:https://www.northshorechamber.org/event/save-the-date-honors-scholars-dinner-program/
END:VEVENT
BEGIN:VEVENT
DTSTART;TZID=America/New_York:20260520T080000
DTEND;TZID=America/New_York:20260520T090000
DTSTAMP:20260419T123148
CREATED:20251028T224514Z
LAST-MODIFIED:20260418T224507Z
UID:10001746-1779264000-1779267600@www.northshorechamber.org
SUMMARY:Managing Board of Directors Meeting
DESCRIPTION:Meeting of the North Shore Chamber of Commerce's Managing Board of Directors \n 
URL:https://www.northshorechamber.org/event/managing-board-of-directors-meeting-43/
END:VEVENT
BEGIN:VEVENT
DTSTART;TZID=America/New_York:20260521T170000
DTEND;TZID=America/New_York:20260521T190000
DTSTAMP:20260419T123148
CREATED:20260330T163721Z
LAST-MODIFIED:20260418T224507Z
UID:10001832-1779382800-1779390000@www.northshorechamber.org
SUMMARY:THRIVE Networking at The Salem Pantry
DESCRIPTION:THRIVE will hold a Networking-With-A-Cause event Thursday\, May 21\, from 5 to 7 p.m. at The Salem Pantry\, 220 Highland Ave.\, Salem. \nJoin the women of THRIVE to meet friends\, make business connections\, and support a great non-profit\, The Salem Pantry. Come check out their new location and warehouse while learning about the organizations plans for the future\, along with long-term goals in building a food security safety net across the North Shore. \nDonations of spices will be collected! \nRegistration required; FREE for Chamber members; $25 non-members.  \nThursday\, May 21\, 5 to 7 p.m.\nThe Salem Pantry\n220 Highland Ave.\, Salem
URL:https://www.northshorechamber.org/event/thrive-networking-at-the-salem-pantry/
END:VEVENT
BEGIN:VEVENT
DTSTART;TZID=America/New_York:20260528T080000
DTEND;TZID=America/New_York:20260528T090000
DTSTAMP:20260419T123148
CREATED:20251204T234516Z
LAST-MODIFIED:20260418T224507Z
UID:10001772-1779955200-1779958800@www.northshorechamber.org
SUMMARY:Business Leads Group-May
DESCRIPTION:Business Leads attendees will:\n– Have the opportunity to speak and promote their organization\n– Share and distribute marketing materials \n– Meet other business professionals and develop mutually beneficial business opportunities\n– Receive valuable contact details other attendees \nFREE; limited to Chamber Members Only! \nLimited to first 15 registrants. \nThursday\, May 28\, 8 to 9 a.m.\nNorth Shore Chamber Boardroom\n500 Cummings Center\, Suite 1700\nBeverly
URL:https://www.northshorechamber.org/event/business-leads-group-may-3/
END:VEVENT
END:VCALENDAR