BEGIN:VCALENDAR
VERSION:2.0
PRODID:-//North Shore Chamber of Commerce - ECPv6.15.18//NONSGML v1.0//EN
CALSCALE:GREGORIAN
METHOD:PUBLISH
X-WR-CALNAME:North Shore Chamber of Commerce
X-ORIGINAL-URL:https://www.northshorechamber.org
X-WR-CALDESC:Events for North Shore Chamber of Commerce
REFRESH-INTERVAL;VALUE=DURATION:PT1H
X-Robots-Tag:noindex
X-PUBLISHED-TTL:PT1H
BEGIN:VTIMEZONE
TZID:America/New_York
BEGIN:DAYLIGHT
TZOFFSETFROM:-0500
TZOFFSETTO:-0400
TZNAME:EDT
DTSTART:20250309T070000
END:DAYLIGHT
BEGIN:STANDARD
TZOFFSETFROM:-0400
TZOFFSETTO:-0500
TZNAME:EST
DTSTART:20251102T060000
END:STANDARD
BEGIN:DAYLIGHT
TZOFFSETFROM:-0500
TZOFFSETTO:-0400
TZNAME:EDT
DTSTART:20260308T070000
END:DAYLIGHT
BEGIN:STANDARD
TZOFFSETFROM:-0400
TZOFFSETTO:-0500
TZNAME:EST
DTSTART:20261101T060000
END:STANDARD
BEGIN:DAYLIGHT
TZOFFSETFROM:-0500
TZOFFSETTO:-0400
TZNAME:EDT
DTSTART:20270314T070000
END:DAYLIGHT
BEGIN:STANDARD
TZOFFSETFROM:-0400
TZOFFSETTO:-0500
TZNAME:EST
DTSTART:20271107T060000
END:STANDARD
BEGIN:DAYLIGHT
TZOFFSETFROM:-0500
TZOFFSETTO:-0400
TZNAME:EDT
DTSTART:20280312T070000
END:DAYLIGHT
BEGIN:STANDARD
TZOFFSETFROM:-0400
TZOFFSETTO:-0500
TZNAME:EST
DTSTART:20281105T060000
END:STANDARD
END:VTIMEZONE
BEGIN:VEVENT
DTSTART;TZID=America/New_York:20260804T080000
DTEND;TZID=America/New_York:20260804T090000
DTSTAMP:20260419T200512
CREATED:20251205T191756Z
LAST-MODIFIED:20260419T224511Z
UID:10001785-1785830400-1785834000@www.northshorechamber.org
SUMMARY:Small Business Council Meeting - August
DESCRIPTION:Topic and speaker details to be announced soon! \nThe North Shore Chamber's Small Business Council can help you grow and strengthen your business. Tap into shared knowledge\, advocacy and support — all designed to make running your business more strategic\, connected and successful.  \nClick HERE for more information about the Small Business Council.  \nMeetings are held the first Tuesday of each month. \nAttendance is FREE for Chamber members; $25 all others. Registration required. \n  \nTuesday\, August. 4\, 8 to 9 a.m.\nNorth Shore Chamber Education Center\n500 Cummings Center\, Suite 1700\nBeverly
URL:https://www.northshorechamber.org/event/small-business-council-meeting-august-3/
END:VEVENT
BEGIN:VEVENT
DTSTART;TZID=America/New_York:20260827T080000
DTEND;TZID=America/New_York:20260827T090000
DTSTAMP:20260419T200512
CREATED:20251204T234520Z
LAST-MODIFIED:20260419T224511Z
UID:10001775-1787817600-1787821200@www.northshorechamber.org
SUMMARY:Business Leads Group-August
DESCRIPTION:Business Leads attendees will:\n– Have the opportunity to speak and promote their organization\n– Share and distribute marketing materials \n– Meet other business professionals and develop mutually beneficial business opportunities\n– Receive valuable contact details other attendees \nFREE; limited to Chamber Members Only! \nLimited to first 15 registrants. \nThursday\, August 27\, 8 to 9 a.m.\nNorth Shore Chamber Boardroom\n500 Cummings Center\, Suite 1700\nBeverly
URL:https://www.northshorechamber.org/event/business-leads-group-august-3/
END:VEVENT
BEGIN:VEVENT
DTSTART;TZID=America/New_York:20260901T080000
DTEND;TZID=America/New_York:20260901T090000
DTSTAMP:20260419T200512
CREATED:20251205T191758Z
LAST-MODIFIED:20260419T224512Z
UID:10001786-1788249600-1788253200@www.northshorechamber.org
SUMMARY:Small Business Council Meeting - September
DESCRIPTION:Topic and speaker details to be announced soon! \nThe North Shore Chamber's Small Business Council can help you grow and strengthen your business. Tap into shared knowledge\, advocacy and support — all designed to make running your business more strategic\, connected and successful.  \nClick HERE for more information about the Small Business Council.  \nMeetings are held the first Tuesday of each month. \nAttendance is FREE for Chamber members; $25 all others. Registration required. \n  \nTuesday\, Sept. 1\, 8 to 9 a.m.\nNorth Shore Chamber Education Center\n500 Cummings Center\, Suite 1700\nBeverly
URL:https://www.northshorechamber.org/event/small-business-council-meeting-september-3/
END:VEVENT
BEGIN:VEVENT
DTSTART;TZID=America/New_York:20260909T073000
DTEND;TZID=America/New_York:20260909T090000
DTSTAMP:20260419T200512
CREATED:20260310T171942Z
LAST-MODIFIED:20260419T224512Z
UID:10001821-1788939000-1788944400@www.northshorechamber.org
SUMMARY:September Breakfast Forum - State of the Region
DESCRIPTION:The North Shore's top municipal leaders will offer an overview of the projects they're pursuing\, the issues facing their communities and the region\, and their priorities for the season ahead. \n  \nPRICING\n(Note: Tickets are nonrefundable) \nMembers: $75\nNonmembers: $100 \nSPONSORSHIP OPPORTUNITIES\nPresenting Sponsor\, $1299: Verbal welcome and recognition by the Chairman at event\, seat at Leadership Table\, 30-second video to be played during event\, attendee list\, eight tickets with prominent table location and signage\, company logo and link to your website on all print/electronic promotional materials\, marketing display table\, posted organizational virtual banner at event\, marketing materials distribution at each table\, verbal and logo recognition during breakfast\nTitle Sponsor\, $699: Company logo and link to your website on all print/electronic promotional materials\, four tickets with prominent table location and signage\, posted organizational virtual banner at event\, distribution of marketing materials at each table\, verbal and logo recognition during breakfast\nSupporting Sponsor\, $299: One ticket and logo recognition at event \nQuestions: Please write to info@northshorechamber.org. \nWednesday\, Sept. 9\n7:30 to 9:30 a.m.\nEssex North Shore Agricultural & Technical High School – Alumni Gymnasium\,\n562 Maple Street Hathorne\, MA (or Danvers\, MA)  \n 
URL:https://www.northshorechamber.org/event/september-breakfast-forum-state-of-the-region-3/
END:VEVENT
BEGIN:VEVENT
DTSTART;TZID=America/New_York:20260923T080000
DTEND;TZID=America/New_York:20260923T090000
DTSTAMP:20260419T200512
CREATED:20251028T224516Z
LAST-MODIFIED:20260419T224512Z
UID:10001749-1790150400-1790154000@www.northshorechamber.org
SUMMARY:Managing Board of Directors Meeting
DESCRIPTION:Meeting of the North Shore Chamber of Commerce's Managing Board of Directors \n 
URL:https://www.northshorechamber.org/event/managing-board-of-directors-meeting-45/
END:VEVENT
BEGIN:VEVENT
DTSTART;TZID=America/New_York:20260924T080000
DTEND;TZID=America/New_York:20260924T090000
DTSTAMP:20260419T200512
CREATED:20251204T234521Z
LAST-MODIFIED:20260419T224513Z
UID:10001776-1790236800-1790240400@www.northshorechamber.org
SUMMARY:Business Leads Group-September
DESCRIPTION:Business Leads attendees will:\n– Have the opportunity to speak and promote their organization\n– Share and distribute marketing materials \n– Meet other business professionals and develop mutually beneficial business opportunities\n– Receive valuable contact details other attendees \nFREE; limited to Chamber Members Only! \nLimited to first 15 registrants. \nThursday\, September 24\, 8 to 9 a.m.\nNorth Shore Chamber Boardroom\n500 Cummings Center\, Suite 1700\nBeverly
URL:https://www.northshorechamber.org/event/business-leads-group-september-5/
END:VEVENT
BEGIN:VEVENT
DTSTART;TZID=America/New_York:20261006T080000
DTEND;TZID=America/New_York:20261006T090000
DTSTAMP:20260419T200512
CREATED:20251205T191759Z
LAST-MODIFIED:20260419T224513Z
UID:10001787-1791273600-1791277200@www.northshorechamber.org
SUMMARY:Small Business Council Meeting - October
DESCRIPTION:Topic and speaker details to be announced soon! \nThe North Shore Chamber's Small Business Council can help you grow and strengthen your business. Tap into shared knowledge\, advocacy and support — all designed to make running your business more strategic\, connected and successful.  \nClick HERE for more information about the Small Business Council.  \nMeetings are held the first Tuesday of each month. \nAttendance is FREE for Chamber members; $25 all others. Registration required. \n  \nTuesday\, Oct. 6\, 8 to 9 a.m.\nNorth Shore Chamber Education Center\n500 Cummings Center\, Suite 1700\nBeverly
URL:https://www.northshorechamber.org/event/small-business-council-meeting-october-4/
END:VEVENT
BEGIN:VEVENT
DTSTART;TZID=America/New_York:20261021T080000
DTEND;TZID=America/New_York:20261021T090000
DTSTAMP:20260419T200512
CREATED:20251028T224517Z
LAST-MODIFIED:20260419T224513Z
UID:10001750-1792569600-1792573200@www.northshorechamber.org
SUMMARY:Managing Board of Directors Meeting
DESCRIPTION:Meeting of the North Shore Chamber of Commerce's Managing Board of Directors \n 
URL:https://www.northshorechamber.org/event/managing-board-of-directors-meeting-46/
END:VEVENT
BEGIN:VEVENT
DTSTART;TZID=America/New_York:20261028T080000
DTEND;TZID=America/New_York:20261028T093000
DTSTAMP:20260419T200512
CREATED:20251028T224518Z
LAST-MODIFIED:20260419T224514Z
UID:10001751-1793174400-1793179800@www.northshorechamber.org
SUMMARY:Board of Directors Meeting
DESCRIPTION:Meeting of the North Shore Chamber of Commerce's Board of Directors \n 
URL:https://www.northshorechamber.org/event/board-of-directors-meeting-19/
END:VEVENT
BEGIN:VEVENT
DTSTART;TZID=America/New_York:20261029T080000
DTEND;TZID=America/New_York:20261029T090000
DTSTAMP:20260419T200512
CREATED:20251204T234523Z
LAST-MODIFIED:20260419T224514Z
UID:10001777-1793260800-1793264400@www.northshorechamber.org
SUMMARY:Business Leads Group-October
DESCRIPTION:Business Leads attendees will:\n– Have the opportunity to speak and promote their organization\n– Share and distribute marketing materials \n– Meet other business professionals and develop mutually beneficial business opportunities\n– Receive valuable contact details other attendees \nFREE; limited to Chamber Members Only! \nLimited to first 15 registrants. \nThursday\, October 29\, 8 to 9 a.m.\nNorth Shore Chamber Boardroom\n500 Cummings Center\, Suite 1700\nBeverly
URL:https://www.northshorechamber.org/event/business-leads-group-october-3/
END:VEVENT
BEGIN:VEVENT
DTSTART;TZID=America/New_York:20261103T080000
DTEND;TZID=America/New_York:20261103T090000
DTSTAMP:20260419T200512
CREATED:20251205T191803Z
LAST-MODIFIED:20260419T224514Z
UID:10001788-1793692800-1793696400@www.northshorechamber.org
SUMMARY:Small Business Council Meeting - November
DESCRIPTION:Topic and speaker details to be announced soon! \nThe North Shore Chamber's Small Business Council can help you grow and strengthen your business. Tap into shared knowledge\, advocacy and support — all designed to make running your business more strategic\, connected and successful.  \nClick HERE for more information about the Small Business Council.  \nMeetings are held the first Tuesday of each month. \nAttendance is FREE for Chamber members; $25 all others. Registration required. \n  \nTuesday\, Nov. 3\, 8 to 9 a.m.\nNorth Shore Chamber Education Center\n500 Cummings Center\, Suite 1700\nBeverly
URL:https://www.northshorechamber.org/event/small-business-council-meeting-november-5/
END:VEVENT
BEGIN:VEVENT
DTSTART;TZID=America/New_York:20261106T071500
DTEND;TZID=America/New_York:20261106T093000
DTSTAMP:20260419T200512
CREATED:20260310T164239Z
LAST-MODIFIED:20260419T224515Z
UID:10001819-1793949300-1793957400@www.northshorechamber.org
SUMMARY:Salute to Veterans Breakfast
DESCRIPTION:Join the North Shore Chamber as we honor the region’s veterans and military at our sixth annual Salute to Veterans Breakfast. \nThe program will feature the presentation of the Minuteman Service Award\, recognizing selfless dedication and support of our military and veterans communities.  \nKeynote speaker to be announced! \nThe 2026 Salute to Veterans Breakfast promises to be a special morning of honor\, connection and gratitude. \nFor a look at our previous Salute to Veterans events\, click HERE. \n  \nPRICING\n(Note: Tickets are nonrefundable) \n\nChamber members: $65\nNon-members: $85\nFree for Veterans and Military\, with thanks to our generous sponsors (registration required)\n\n\n"THANK A VETERAN" SPONSORSHIPS \nStars & Strips Sponsor ($10\,000): Allows 100 military guests to attend the breakfast free of charge. You will receive a table sign thanking your business; your company retractable banner displayed on the stage; logo recognition in slideshow at event; logo recognition on the Chamber website; logo recognition on marketing materials; seat on the Host Committee; 10 additional seats for your guests to the event \nEagle Sponsor ($7\,500): Allows 75 veterans to attend the breakfast free of charge. You will receive your company banner at entrance; special recogition from the podium; five reserved tickets; table signs thanking your business; logo recognition in the event slideshow; logo recognition on the Chamber website.  \nLiberty Sponsor ($5\,000): Allows 50 veterans to attend the breakfast free of charge. You will receive two reserved tickets; special recognition from the podium; table signs thanking your business; special recognition in the event slideshow; logo recognition on the Chamber website. \nFreedom Sponsor ($1\,000): Allows 10 veterans to attend the breakfast free of charge. You will receive a table sign thanking your business; logo recognition in the event slideshow; logo recognition on the Chamber website.   \nPatriot Sponsor ($500): Allows 5 veterans to attend the breakfast free of charge. You receive a shared table sign thanking your business; logo recognition in the event slideshow.  \nQuestions? Please contact President Karen Andreas at 978-774-8565\, ext. 5\, or by email at karen.andreas@northshorechamber.org. \nFriday\, Nov. 6\, 7:15 to 9:30 a.m.\nDanversport Yacht Club\n161 Elliott St. (Route 62)\nDanvers
URL:https://www.northshorechamber.org/event/salute-to-veterans-breakfast-5/
END:VEVENT
BEGIN:VEVENT
DTSTART;TZID=America/New_York:20261201T080000
DTEND;TZID=America/New_York:20261201T090000
DTSTAMP:20260419T200512
CREATED:20251205T191805Z
LAST-MODIFIED:20260419T224515Z
UID:10001789-1796112000-1796115600@www.northshorechamber.org
SUMMARY:Small Business Council Meeting - December
DESCRIPTION:Topic and speaker details to be announced soon! \nThe North Shore Chamber's Small Business Council can help you grow and strengthen your business. Tap into shared knowledge\, advocacy and support — all designed to make running your business more strategic\, connected and successful.  \nClick HERE for more information about the Small Business Council.  \nMeetings are held the first Tuesday of each month. \nAttendance is FREE for Chamber members; $25 all others. Registration required. \n  \nTuesday\, Dec. 1\, 8 to 9 a.m.\nNorth Shore Chamber Education Center\n500 Cummings Center\, Suite 1700\nBeverly
URL:https://www.northshorechamber.org/event/small-business-council-meeting-december-3/
END:VEVENT
BEGIN:VEVENT
DTSTART;TZID=America/New_York:20261202T170000
DTEND;TZID=America/New_York:20261202T190000
DTSTAMP:20260419T200512
CREATED:20260107T184428Z
LAST-MODIFIED:20260419T224516Z
UID:10001802-1796230800-1796238000@www.northshorechamber.org
SUMMARY:Chamber Holiday Party
DESCRIPTION:Celebrate the season at the Chamber's annual Holiday Party. Plentiful appetizers\, a cash bar\, and festive music will be sure to get everyone in the holiday spirit. Enjoy a special gift raffle to help make the season bright!\n  \nTickets\n$25 Chamber members\n$35 Non-members \nEvent registrations are transferrable but not refundable. \nWednesday\, Dec. 2\, 5 to 7 p.m.\nHawthorne Hotel\n18 Washington Square West\, On The Common\, Salem  \n 
URL:https://www.northshorechamber.org/event/chamber-holiday-party-4/
END:VEVENT
BEGIN:VEVENT
DTSTART;TZID=America/New_York:20261216T080000
DTEND;TZID=America/New_York:20261216T090000
DTSTAMP:20260419T200512
CREATED:20251028T224518Z
LAST-MODIFIED:20260419T224516Z
UID:10001752-1797408000-1797411600@www.northshorechamber.org
SUMMARY:Managing Board of Directors Meeting
DESCRIPTION:Meeting of the North Shore Chamber of Commerce's Managing Board of Directors \n 
URL:https://www.northshorechamber.org/event/managing-board-of-directors-meeting-47/
END:VEVENT
BEGIN:VEVENT
DTSTART;TZID=America/New_York:20270105T080000
DTEND;TZID=America/New_York:20270105T090000
DTSTAMP:20260419T200512
CREATED:20251205T191807Z
LAST-MODIFIED:20260419T224516Z
UID:10001790-1799136000-1799139600@www.northshorechamber.org
SUMMARY:Small Business Council Meeting - January
DESCRIPTION:Topic and speaker details to be announced soon! \nThe North Shore Chamber's Small Business Council can help you grow and strengthen your business. Tap into shared knowledge\, advocacy and support — all designed to make running your business more strategic\, connected and successful.  \nClick HERE for more information about the Small Business Council.  \nMeetings are held the first Tuesday of each month. \nAttendance is FREE for Chamber members; $25 all others. Registration required. \n  \nTuesday\, Jan. 5\, 8 to 9 a.m.\nNorth Shore Chamber Education Center\n500 Cummings Center\, Suite 1700\nBeverly
URL:https://www.northshorechamber.org/event/small-business-council-meeting-january-2/
END:VEVENT
BEGIN:VEVENT
DTSTART;TZID=America/New_York:20270128T080000
DTEND;TZID=America/New_York:20270128T090000
DTSTAMP:20260419T200512
CREATED:20251204T234524Z
LAST-MODIFIED:20260419T224517Z
UID:10001778-1801123200-1801126800@www.northshorechamber.org
SUMMARY:Business Leads Group-January
DESCRIPTION:Business Leads attendees will:\n– Have the opportunity to speak and promote their organization\n– Share and distribute marketing materials \n– Meet other business professionals and develop mutually beneficial business opportunities\n– Receive valuable contact details other attendees \nFREE; limited to Chamber Members Only! \nLimited to first 15 registrants. \nThursday\, January 28\, 8 to 9 a.m.\nNorth Shore Chamber Boardroom\n500 Cummings Center\, Suite 1700\nBeverly
URL:https://www.northshorechamber.org/event/business-leads-group-january-3/
END:VEVENT
END:VCALENDAR